BEGIN:VCALENDAR
VERSION:2.0
PRODID:-//eventon.com NONSGML v1.0//EN
CALSCALE:GREGORIAN
METHOD:PUBLISH
BEGIN:VEVENT
UID:69e7384e23071
DTSTAMP:20260421T084150Z
DTSTART:20240613T160000Z
DTEND:20240613T170000Z
LOCATION:
SUMMARY:Executive Committee
DESCRIPTION:\nhttps://narronline.org/events/executive-committee/var/ri-1.l-
 L1
URL:https://narronline.org/events/executive-committee/var/ri-1.l-L1
END:VEVENT
END:VCALENDAR