BEGIN:VCALENDAR
VERSION:2.0
PRODID:-//eventon.com NONSGML v1.0//EN
CALSCALE:GREGORIAN
METHOD:PUBLISH
BEGIN:VEVENT
UID:69e61b7400eb3
DTSTAMP:20260420T122628Z
DTSTART:20260710T150000Z
DTEND:20260710T160000Z
LOCATION:
SUMMARY:Healing Together: A Community of Practice
DESCRIPTION:This monthly webinar is an opportunity for operators of recover
 y homes for parents with children to come together in a supportive communit
 y and learn from qualified speakers.  It will provide a space for attendee
 s to share their questions\,  resources\,  and experiences\,  uplifting ope
 rators doing similar work throughout the US. Whether[..]\nhttps://narronlin
 e.org/events/healing-together-a-community-of-practice-call/var/ri-18.l-L1
URL:https://narronline.org/events/healing-together-a-community-of-practice-call/var/ri-18.l-L1
END:VEVENT
END:VCALENDAR